Workbook

Sheet Summary
A1: Georgia 2026 general: county-by-county projection of the final vote
A2: Built on 2026 ballots through 7:33 PM 10/15/2026 (day 3 of early voting), 2022 county results by vote method, and the 2024 county trend. Projection, not a forecast of record.
A4: US Senate: projected statewide result by environment scenario
A5: Scenario | B5: D votes | C5: R votes | D5: Libertarian votes | E5: Total votes | F5: Margin (D minus R) | G5: D share | H5: R share | I5: Votes for majority (50%+1) | J5: D votes above / (below) majority
A6: Floor (2022 + county trend) | B6: =Senate!T165 -> 2170738.3 | C6: =Senate!U165 -> 2040635.6 | D6: =E6-B6-C6 -> 88626.109 | E6: =Senate!J165 -> 4300000 | F6: =(B6-C6)/E6 -> 0.03025643 | G6: =B6/E6 -> 0.50482285 | H6: =C6/E6 -> 0.47456642 | I6: =E6/2+1 -> 2150001 | J6: =B6-I6 -> 20737.27
A7: BASE (primary pass-through) | B7: =Senate!V165 -> 2280365 | C7: =Senate!W165 -> 1931008.8 | D7: =E7-B7-C7 -> 88626.109 | E7: =Senate!J165 -> 4300000 | F7: =(B7-C7)/E7 -> 0.081245628 | G7: =B7/E7 -> 0.53031745 | H7: =C7/E7 -> 0.44907182 | I7: =E7/2+1 -> 2150001 | J7: =B7-I7 -> 130364.05
A8: High (poll-implied) | B8: =Senate!X165 -> 2321238.3 | C8: =Senate!Y165 -> 1890135.6 | D8: =E8-B8-C8 -> 88626.109 | E8: =Senate!J165 -> 4300000 | F8: =(B8-C8)/E8 -> 0.10025643 | G8: =B8/E8 -> 0.53982285 | H8: =C8/E8 -> 0.43956642 | I8: =E8/2+1 -> 2150001 | J8: =B8-I8 -> 171237.27
A10: Governor: projected statewide result by environment scenario
A11: Scenario | B11: D votes | C11: R votes | D11: Libertarian votes | E11: Total votes | F11: Margin (D minus R) | G11: D share | H11: R share | I11: Votes for majority (50%+1) | J11: D votes above / (below) majority
A12: Floor (2022 + county trend) | B12: =Governor!T165 -> 2017689.7 | C12: =Governor!U165 -> 2251758.4 | D12: =E12-B12-C12 -> 30551.891 | E12: =Governor!J165 -> 4300000 | F12: =(B12-C12)/E12 -> -0.054434577 | G12: =B12/E12 -> 0.46923017 | H12: =C12/E12 -> 0.52366474 | I12: =E12/2+1 -> 2150001 | J12: =B12-I12 -> -132311.29
A13: BASE (primary pass-through) | B13: =Governor!V165 -> 2127316.5 | C13: =Governor!W165 -> 2142131.6 | D13: =E13-B13-C13 -> 30551.891 | E13: =Governor!J165 -> 4300000 | F13: =(B13-C13)/E13 -> -0.0034453794 | G13: =B13/E13 -> 0.49472476 | H13: =C13/E13 -> 0.49817014 | I13: =E13/2+1 -> 2150001 | J13: =B13-I13 -> -22684.511
A14: High (poll-implied) | B14: =Governor!X165 -> 2168189.7 | C14: =Governor!Y165 -> 2101258.4 | D14: =E14-B14-C14 -> 30551.891 | E14: =Governor!J165 -> 4300000 | F14: =(B14-C14)/E14 -> 0.015565423 | G14: =B14/E14 -> 0.50423017 | H14: =C14/E14 -> 0.48866474 | I14: =E14/2+1 -> 2150001 | J14: =B14-I14 -> 18188.713
A16: Base scenario: cast so far vs. still to come (statewide)
A17: Race | B17: D cast so far (est.) | C17: R cast so far (est.) | D17: Margin so far | E17: Votes remaining | F17: D remaining (est.) | G17: R remaining (est.) | H17: Margin in remaining votes
A18: US Senate | B18: =Senate!AA165 -> 296813.06 | C18: =Senate!AB165 -> 221103.97 | D18: =(B18-C18)/(Senate!B165) -> 0.14316419 | E18: =Senate!AC165 -> 3771173 | F18: =Senate!AD165 -> 1983552 | G18: =Senate!AE165 -> 1709904.9 | H18: =(F18-G18)/E18 -> 0.072562863
A19: Governor | B19: =Governor!AA165 -> 277986.76 | C19: =Governor!AB165 -> 247092.3 | D19: =(B19-C19)/(Governor!B165) -> 0.05842073 | E19: =Governor!AC165 -> 3771173 | F19: =Governor!AD165 -> 1849329.7 | G19: =Governor!AE165 -> 1895039.3 | H19: =(F19-G19)/E19 -> -0.012120789
A22: Largest counties (Senate, BASE scenario)
A23: County | B23: 2026 ballots to date | C23: Projected final votes | D23: 2022 margin | E23: BASE margin | F23: BASE shift vs 2022 (pts) | G23: BASE D votes | H23: BASE R votes | I23: Remaining margin
A24: FULTON | B24: =INDEX(Senate!B$6:B$164,MATCH($A24,Senate!$A$6:$A$164,0)) -> 65256 | C24: =INDEX(Senate!J$6:J$164,MATCH($A24,Senate!$A$6:$A$164,0)) -> 456795 | D24: =INDEX(Senate!M$6:M$164,MATCH($A24,Senate!$A$6:$A$164,0)) -> 0.48975541 | E24: =INDEX(Senate!R$6:R$164,MATCH($A24,Senate!$A$6:$A$164,0)) -> 0.53192471 | F24: =INDEX(Senate!AG$6:AG$164,MATCH($A24,Senate!$A$6:$A$164,0)) -> 0.0421693 | G24: =INDEX(Senate!V$6:V$164,MATCH($A24,Senate!$A$6:$A$164,0)) -> 345598.07 | H24: =INDEX(Senate!W$6:W$164,MATCH($A24,Senate!$A$6:$A$164,0)) -> 102617.52 | I24: =INDEX(Senate!AF$6:AF$164,MATCH($A24,Senate!$A$6:$A$164,0)) -> 0.52862649
A25: COBB | B25: =INDEX(Senate!B$6:B$164,MATCH($A25,Senate!$A$6:$A$164,0)) -> 44526 | C25: =INDEX(Senate!J$6:J$164,MATCH($A25,Senate!$A$6:$A$164,0)) -> 362509.55 | D25: =INDEX(Senate!M$6:M$164,MATCH($A25,Senate!$A$6:$A$164,0)) -> 0.16285104 | E25: =INDEX(Senate!R$6:R$164,MATCH($A25,Senate!$A$6:$A$164,0)) -> 0.23242667 | F25: =INDEX(Senate!AG$6:AG$164,MATCH($A25,Senate!$A$6:$A$164,0)) -> 0.06957563 | G25: =INDEX(Senate!V$6:V$164,MATCH($A25,Senate!$A$6:$A$164,0)) -> 218440.1 | H25: =INDEX(Senate!W$6:W$164,MATCH($A25,Senate!$A$6:$A$164,0)) -> 134183.21 | I25: =INDEX(Senate!AF$6:AF$164,MATCH($A25,Senate!$A$6:$A$164,0)) -> 0.22560986
A26: DEKALB | B26: =INDEX(Senate!B$6:B$164,MATCH($A26,Senate!$A$6:$A$164,0)) -> 44985 | C26: =INDEX(Senate!J$6:J$164,MATCH($A26,Senate!$A$6:$A$164,0)) -> 334174.94 | D26: =INDEX(Senate!M$6:M$164,MATCH($A26,Senate!$A$6:$A$164,0)) -> 0.70171724 | E26: =INDEX(Senate!R$6:R$164,MATCH($A26,Senate!$A$6:$A$164,0)) -> 0.72112755 | F26: =INDEX(Senate!AG$6:AG$164,MATCH($A26,Senate!$A$6:$A$164,0)) -> 0.019410303 | G26: =INDEX(Senate!V$6:V$164,MATCH($A26,Senate!$A$6:$A$164,0)) -> 284851.05 | H26: =INDEX(Senate!W$6:W$164,MATCH($A26,Senate!$A$6:$A$164,0)) -> 43868.295 | I26: =INDEX(Senate!AF$6:AF$164,MATCH($A26,Senate!$A$6:$A$164,0)) -> 0.71360032
A27: GWINNETT | B27: =INDEX(Senate!B$6:B$164,MATCH($A27,Senate!$A$6:$A$164,0)) -> 39320 | C27: =INDEX(Senate!J$6:J$164,MATCH($A27,Senate!$A$6:$A$164,0)) -> 322051.73 | D27: =INDEX(Senate!M$6:M$164,MATCH($A27,Senate!$A$6:$A$164,0)) -> 0.20354588 | E27: =INDEX(Senate!R$6:R$164,MATCH($A27,Senate!$A$6:$A$164,0)) -> 0.2599648 | F27: =INDEX(Senate!AG$6:AG$164,MATCH($A27,Senate!$A$6:$A$164,0)) -> 0.056418915 | G27: =INDEX(Senate!V$6:V$164,MATCH($A27,Senate!$A$6:$A$164,0)) -> 198929.84 | H27: =INDEX(Senate!W$6:W$164,MATCH($A27,Senate!$A$6:$A$164,0)) -> 115207.73 | I27: =INDEX(Senate!AF$6:AF$164,MATCH($A27,Senate!$A$6:$A$164,0)) -> 0.25162109
A28: CHEROKEE | B28: =INDEX(Senate!B$6:B$164,MATCH($A28,Senate!$A$6:$A$164,0)) -> 15883 | C28: =INDEX(Senate!J$6:J$164,MATCH($A28,Senate!$A$6:$A$164,0)) -> 135195.83 | D28: =INDEX(Senate!M$6:M$164,MATCH($A28,Senate!$A$6:$A$164,0)) -> -0.38304453 | E28: =INDEX(Senate!R$6:R$164,MATCH($A28,Senate!$A$6:$A$164,0)) -> -0.31801638 | F28: =INDEX(Senate!AG$6:AG$164,MATCH($A28,Senate!$A$6:$A$164,0)) -> 0.065028144 | G28: =INDEX(Senate!V$6:V$164,MATCH($A28,Senate!$A$6:$A$164,0)) -> 43934.821 | H28: =INDEX(Senate!W$6:W$164,MATCH($A28,Senate!$A$6:$A$164,0)) -> 86929.311 | I28: =INDEX(Senate!AF$6:AF$164,MATCH($A28,Senate!$A$6:$A$164,0)) -> -0.31843567
A29: CHATHAM | B29: =INDEX(Senate!B$6:B$164,MATCH($A29,Senate!$A$6:$A$164,0)) -> 12391 | C29: =INDEX(Senate!J$6:J$164,MATCH($A29,Senate!$A$6:$A$164,0)) -> 126236.99 | D29: =INDEX(Senate!M$6:M$164,MATCH($A29,Senate!$A$6:$A$164,0)) -> 0.20572447 | E29: =INDEX(Senate!R$6:R$164,MATCH($A29,Senate!$A$6:$A$164,0)) -> 0.26855299 | F29: =INDEX(Senate!AG$6:AG$164,MATCH($A29,Senate!$A$6:$A$164,0)) -> 0.062828515 | G29: =INDEX(Senate!V$6:V$164,MATCH($A29,Senate!$A$6:$A$164,0)) -> 78987.813 | H29: =INDEX(Senate!W$6:W$164,MATCH($A29,Senate!$A$6:$A$164,0)) -> 45086.493 | I29: =INDEX(Senate!AF$6:AF$164,MATCH($A29,Senate!$A$6:$A$164,0)) -> 0.25956465
A30: CLAYTON | B30: =INDEX(Senate!B$6:B$164,MATCH($A30,Senate!$A$6:$A$164,0)) -> 15396 | C30: =INDEX(Senate!J$6:J$164,MATCH($A30,Senate!$A$6:$A$164,0)) -> 109535.87 | D30: =INDEX(Senate!M$6:M$164,MATCH($A30,Senate!$A$6:$A$164,0)) -> 0.76188775 | E30: =INDEX(Senate!R$6:R$164,MATCH($A30,Senate!$A$6:$A$164,0)) -> 0.76803698 | F30: =INDEX(Senate!AG$6:AG$164,MATCH($A30,Senate!$A$6:$A$164,0)) -> 0.0061492333 | G30: =INDEX(Senate!V$6:V$164,MATCH($A30,Senate!$A$6:$A$164,0)) -> 96120.647 | H30: =INDEX(Senate!W$6:W$164,MATCH($A30,Senate!$A$6:$A$164,0)) -> 11993.05 | I30: =INDEX(Senate!AF$6:AF$164,MATCH($A30,Senate!$A$6:$A$164,0)) -> 0.76445262
A31: HENRY | B31: =INDEX(Senate!B$6:B$164,MATCH($A31,Senate!$A$6:$A$164,0)) -> 14472 | C31: =INDEX(Senate!J$6:J$164,MATCH($A31,Senate!$A$6:$A$164,0)) -> 102137.78 | D31: =INDEX(Senate!M$6:M$164,MATCH($A31,Senate!$A$6:$A$164,0)) -> 0.29336652 | E31: =INDEX(Senate!R$6:R$164,MATCH($A31,Senate!$A$6:$A$164,0)) -> 0.36775535 | F31: =INDEX(Senate!AG$6:AG$164,MATCH($A31,Senate!$A$6:$A$164,0)) -> 0.07438883 | G31: =INDEX(Senate!V$6:V$164,MATCH($A31,Senate!$A$6:$A$164,0)) -> 68962.749 | H31: =INDEX(Senate!W$6:W$164,MATCH($A31,Senate!$A$6:$A$164,0)) -> 31401.034 | I31: =INDEX(Senate!AF$6:AF$164,MATCH($A31,Senate!$A$6:$A$164,0)) -> 0.35904133
A32: FORSYTH | B32: =INDEX(Senate!B$6:B$164,MATCH($A32,Senate!$A$6:$A$164,0)) -> 12320 | C32: =INDEX(Senate!J$6:J$164,MATCH($A32,Senate!$A$6:$A$164,0)) -> 92329.334 | D32: =INDEX(Senate!M$6:M$164,MATCH($A32,Senate!$A$6:$A$164,0)) -> -0.32557706 | E32: =INDEX(Senate!R$6:R$164,MATCH($A32,Senate!$A$6:$A$164,0)) -> -0.25701965 | F32: =INDEX(Senate!AG$6:AG$164,MATCH($A32,Senate!$A$6:$A$164,0)) -> 0.068557412 | G32: =INDEX(Senate!V$6:V$164,MATCH($A32,Senate!$A$6:$A$164,0)) -> 32945.136 | H32: =INDEX(Senate!W$6:W$164,MATCH($A32,Senate!$A$6:$A$164,0)) -> 56675.588 | I32: =INDEX(Senate!AF$6:AF$164,MATCH($A32,Senate!$A$6:$A$164,0)) -> -0.25402655
A33: HALL | B33: =INDEX(Senate!B$6:B$164,MATCH($A33,Senate!$A$6:$A$164,0)) -> 10511 | C33: =INDEX(Senate!J$6:J$164,MATCH($A33,Senate!$A$6:$A$164,0)) -> 83441.22 | D33: =INDEX(Senate!M$6:M$164,MATCH($A33,Senate!$A$6:$A$164,0)) -> -0.44444901 | E33: =INDEX(Senate!R$6:R$164,MATCH($A33,Senate!$A$6:$A$164,0)) -> -0.37590612 | F33: =INDEX(Senate!AG$6:AG$164,MATCH($A33,Senate!$A$6:$A$164,0)) -> 0.068542887 | G33: =INDEX(Senate!V$6:V$164,MATCH($A33,Senate!$A$6:$A$164,0)) -> 24799.76 | H33: =INDEX(Senate!W$6:W$164,MATCH($A33,Senate!$A$6:$A$164,0)) -> 56165.826 | I33: =INDEX(Senate!AF$6:AF$164,MATCH($A33,Senate!$A$6:$A$164,0)) -> -0.37288548
A34: RICHMOND | B34: =INDEX(Senate!B$6:B$164,MATCH($A34,Senate!$A$6:$A$164,0)) -> 8156 | C34: =INDEX(Senate!J$6:J$164,MATCH($A34,Senate!$A$6:$A$164,0)) -> 78297.298 | D34: =INDEX(Senate!M$6:M$164,MATCH($A34,Senate!$A$6:$A$164,0)) -> 0.37655229 | E34: =INDEX(Senate!R$6:R$164,MATCH($A34,Senate!$A$6:$A$164,0)) -> 0.43808367 | F34: =INDEX(Senate!AG$6:AG$164,MATCH($A34,Senate!$A$6:$A$164,0)) -> 0.061531382 | G34: =INDEX(Senate!V$6:V$164,MATCH($A34,Senate!$A$6:$A$164,0)) -> 55760.217 | H34: =INDEX(Senate!W$6:W$164,MATCH($A34,Senate!$A$6:$A$164,0)) -> 21459.449 | I34: =INDEX(Senate!AF$6:AF$164,MATCH($A34,Senate!$A$6:$A$164,0)) -> 0.42253736
A35: HOUSTON | B35: =INDEX(Senate!B$6:B$164,MATCH($A35,Senate!$A$6:$A$164,0)) -> 9887 | C35: =INDEX(Senate!J$6:J$164,MATCH($A35,Senate!$A$6:$A$164,0)) -> 74496.805 | D35: =INDEX(Senate!M$6:M$164,MATCH($A35,Senate!$A$6:$A$164,0)) -> -0.11157634 | E35: =INDEX(Senate!R$6:R$164,MATCH($A35,Senate!$A$6:$A$164,0)) -> -0.034570787 | F35: =INDEX(Senate!AG$6:AG$164,MATCH($A35,Senate!$A$6:$A$164,0)) -> 0.077005555 | G35: =INDEX(Senate!V$6:V$164,MATCH($A35,Senate!$A$6:$A$164,0)) -> 35269.286 | H35: =INDEX(Senate!W$6:W$164,MATCH($A35,Senate!$A$6:$A$164,0)) -> 37844.699 | I35: =INDEX(Senate!AF$6:AF$164,MATCH($A35,Senate!$A$6:$A$164,0)) -> -0.037290952
... A38: FAYETTE | B38: =INDEX(Senate!B$6:B$164,MATCH($A38,Senate!$A$6:$A$164,0)) -> 9387 | C38: =INDEX(Senate!J$6:J$164,MATCH($A38,Senate!$A$6:$A$164,0)) -> 70121.597 | D38: =INDEX(Senate!M$6:M$164,MATCH($A38,Senate!$A$6:$A$164,0)) -> -0.031588779 | E38: =INDEX(Senate!R$6:R$164,MATCH($A38,Senate!$A$6:$A$164,0)) -> 0.046716997 | F38: =INDEX(Senate!AG$6:AG$164,MATCH($A38,Senate!$A$6:$A$164,0)) -> 0.078305776 | G38: =INDEX(Senate!V$6:V$164,MATCH($A38,Senate!$A$6:$A$164,0)) -> 35823.939 | H38: =INDEX(Senate!W$6:W$164,MATCH($A38,Senate!$A$6:$A$164,0)) -> 32548.069 | I38: =INDEX(Senate!AF$6:AF$164,MATCH($A38,Senate!$A$6:$A$164,0)) -> 0.038535093
A40: All 159 counties with Dem and Rep vote counts for every scenario are on the Senate and Governor sheets. Levers and sources are on Assumptions.

Sheet Assumptions
A1: Assumptions and levers (blue = input, black = formula)
A3: Projected final turnout (votes) | B3: 4300000 | C3: Input. Early-voting pace vs 2022 shape implies ~3.8M to 4.7M; 4.3M is the base. Turnout scales every county together and does not change shares.
A4: Persistence of 2024 relative county trend | B4: 0.5 | C4: Input. Share of each county's 2022-to-2024 movement relative to the state that carries into 2026.
A5: Environment shift: Floor (margin, pct pts) | B5: 0 | C5: Input. No statewide mood shift beyond 2022 + county trend.
A6: Environment shift: Base (margin, pct pts) | B6: =B15*B16 -> 0.050989198 | C6: Formula. Primary margin swing x pass-through.
A7: Environment shift: High (margin, pct pts) | B7: 0.07 | C7: Input. Roughly the shift implied by Sept polls for the Senate (Ossoff +8 to +10 vs Warnock +1 in 2022).
A8: 2022 statewide Senate margin (D minus R, share of all votes) | B8: =(SUM(Senate!E6:E164)-SUM(Senate!F6:F164))/SUM(Senate!D6:D164) -> 0.0095720852 | C8: Formula from county results.
A9: 2022 statewide Governor margin | B9: =(SUM(Governor!E6:E164)-SUM(Governor!F6:F164))/SUM(Governor!D6:D164) -> -0.075352455 | C9: Formula from county results.
A10: 2024 statewide presidential margin (Harris minus Trump) | B10: =(B24-B25)/B26 -> -0.021923228 | C10: Formula.
A11: 2026 primary Democratic ballots | B11: 1093257 | C11: Input. From the primary dashboard (user chart, 10/15/2026).
A12: 2026 primary Republican ballots | B12: 941561 | C12: Input. Same source.
A13: Democratic primary turnout growth vs 2022 | B13: 0.5 | C13: Input. Capitol Beat: "about half". 2022 level is derived from this, so it is approximate.
A14: Republican primary turnout decline vs 2022 | B14: 0.25 | C14: Input. Capitol Beat: "about a quarter".
A15: Primary margin swing, 2022 to 2026 (pct pts) | B15: =(B11-B12)/(B11+B12)-((B11/(1+B13))-(B12/(1-B14)))/((B11/(1+B13))+(B12/(1-B14))) -> 0.33992799 | C15: Formula.
A16: Pass-through of primary swing to November | B16: 0.15 | C16: ASSUMPTION, not measured. Polls imply ~13% to 24%.
A20: Scale factor g (Senate projected votes) | B20: =B3/SUMPRODUCT(Senate!B6:B164,Senate!D6:D164/Senate!C6:C164) -> 4.7387224 | C20: Formula. County final votes = 2026 ballots to date x (2022 final votes / 2022 in-person early) x g.
A21: Elasticity normalizer, Senate | B21: =SUMPRODUCT(Senate!J6:J164,Senate!P6:P164)/SUM(Senate!J6:J164) -> 0.81443749 | C21: Formula. Makes the vote-weighted average environment shift equal the lever above.
A22: Elasticity normalizer, Governor | B22: =SUMPRODUCT(Governor!J6:J164,Governor!P6:P164)/SUM(Governor!J6:J164) -> 0.81535458 | C22: Formula.
A24: 2024 Harris votes (certified) | B24: 2548019 | C24: Input. Sum of county table; certified Trump total 2,663,117 matches exactly.
A25: 2024 Trump votes (certified) | B25: 2663117 | C25: Input.
A26: 2024 total votes | B26: 5250048 | C26: Input.
A28: Method
A29: County final votes: 2026 ballots to date x county 2022 (final votes / in-person early votes) x g, so Election Day-heavy counties grow more.
A30: County margin before shift = 2022 county margin + persistence x (2024 county margin relative to state minus 2022 county margin relative to state).
A31: Environment shift is distributed by elasticity 4p(1-p) of the county 2022 two-party D share p: competitive counties move most, lopsided counties least. Normalized so the vote-weighted statewide shift equals the lever.
A32: Votes: D = final x ((1 - Lib share) + margin)/2; R = final x ((1 - Lib share) - margin)/2. Lib share is the county 2022 share.
A33: Cast so far: ballots to date at 2022 county ADVANCE-VOTING margins + same county adjustment and shift (assumes 2026 early voters behave like 2022 early voters). Remaining = final minus cast.
A34: Governor early margin = 2022 Governor county margin + (Senate advance margin minus Senate final margin) for that county, because 2022 vote-method results by county exist only for the Senate.
A35: Sources: Georgia SOS 2022 certified county results; 2026 ballots to date (user files, 7:33 PM 10/15/2026); 2022 in-person early by county (user file); 2024 county presidential table (Wikipedia, sums to certified totals).
A36: Not modeled: 2026 mail volume (2022 mail was 6.25% of votes and D+37; each point of share below 2022 is worth about -0.4 pts of margin), candidate effects, runoff.

Sheet Senate
A1: Senate: county-by-county projection (2026 ballots to date at 7:33 PM, 10/15/2026)
A2: Blue = input data. Margin = (D minus R) / all votes, in percentage points. Scenario levers are on the Assumptions sheet.
A5: County | B5: 2026 ballots to date | C5: 2022 in-person early votes | D5: 2022 final votes | E5: 2022 D votes | F5: 2022 R votes | G5: 2022 advance-voting D votes | H5: 2022 advance-voting R votes | I5: 2024 presidential margin (Harris-Trump) | J5: Projected final votes | K5: 2022 Libertarian share | L5: 2022 two-party D share | M5: 2022 margin | N5: 2024 relative county trend | O5: County trend adjustment | P5: Elasticity 4p(1-p) | Q5: Floor margin | R5: BASE margin | S5: High margin | T5: Floor D votes | U5: Floor R votes | V5: BASE D votes | W5: BASE R votes | X5: High D votes | Y5: High R votes | Z5: Early margin (cast so far, base) | AA5: D cast so far (est.) | AB5: R cast so far (est.) | AC5: Votes remaining | AD5: D remaining (est.) | AE5: R remaining (est.) | AF5: Remaining margin (Election Day etc.) | AG5: BASE county shift vs 2022 (pts) | AH5: BASE winner
A6: APPLING | B6: 766 | C6: 3302 | D6: 6669 | E6: 1260 | F6: 5344 | G6: 694 | H6: 2550 | I6: -0.62407007 | J6: =B6*D6/C6*Assumptions!$B$20 -> 7331.1767 | K6: =(D6-E6-F6)/D6 -> 0.0097465887 | L6: =E6/(E6+F6) -> 0.19079346 | M6: =(E6-F6)/D6 -> -0.61238567 | N6: =(I6-Assumptions!$B$10)-(M6-Assumptions!$B$8) -> 0.019810904 | O6: =Assumptions!$B$4*N6 -> 0.009905452 | P6: =4*L6*(1-L6) -> 0.61756526 | Q6: =MAX(-(1-K6),MIN(1-K6,M6+O6+Assumptions!$B$5*P6/Assumptions!$B$21)) -> -0.60248021 | R6: =MAX(-(1-K6),MIN(1-K6,M6+O6+Assumptions!$B$6*P6/Assumptions!$B$21)) -> -0.56381652 | S6: =MAX(-(1-K6),MIN(1-K6,M6+O6+Assumptions!$B$7*P6/Assumptions!$B$21)) -> -0.54940116 | T6: =J6*((1-K6)+Q6)/2 -> 1421.4169 | U6: =J6*((1-K6)-Q6)/2 -> 5838.3058 | V6: =J6*((1-K6)+R6)/2 -> 1563.1421 | W6: =J6*((1-K6)-R6)/2 -> 5696.5806 | X6: =J6*((1-K6)+S6)/2 -> 1615.9829 | Y6: =J6*((1-K6)-S6)/2 -> 5643.7398 | Z6: =MAX(-(1-K6),MIN(1-K6,((G6-H6)/C6)+O6+Assumptions!$B$6*P6/Assumptions!$B$21)) -> -0.51351445 | AA6: =B6*((1-K6)+Z6)/2 -> 182.59102 | AB6: =B6*((1-K6)-Z6)/2 -> 575.94309 | AC6: =J6-B6 -> 6565.1767 | AD6: =V6-AA6 -> 1380.551 | AE6: =W6-AB6 -> 5120.6375 | AF6: =IF(AC6>0,(AD6-AE6)/AC6,0) -> -0.56968558 | AG6: =R6-M6 -> 0.04856914 | AH6: =IF(V6>W6,"D","R") -> R
A7: ATKINSON | B7: 143 | C7: 1118 | D7: 2238 | E7: 502 | F7: 1709 | G7: 291 | H7: 807 | I7: -0.53974485 | J7: =B7*D7/C7*Assumptions!$B$20 -> 1356.4868 | K7: =(D7-E7-F7)/D7 -> 0.012064343 | L7: =E7/(E7+F7) -> 0.22704659 | M7: =(E7-F7)/D7 -> -0.53932082 | N7: =(I7-Assumptions!$B$10)-(M7-Assumptions!$B$8) -> 0.031071288 | O7: =Assumptions!$B$4*N7 -> 0.015535644 | P7: =4*L7*(1-L7) -> 0.70198573 | Q7: =MAX(-(1-K7),MIN(1-K7,M7+O7+Assumptions!$B$5*P7/Assumptions!$B$21)) -> -0.52378518 | R7: =MAX(-(1-K7),MIN(1-K7,M7+O7+Assumptions!$B$6*P7/Assumptions!$B$21)) -> -0.47983621 | S7: =MAX(-(1-K7),MIN(1-K7,M7+O7+Assumptions!$B$7*P7/Assumptions!$B$21)) -> -0.46345028 | T7: =J7*((1-K7)+Q7)/2 -> 314.80701 | U7: =J7*((1-K7)-Q7)/2 -> 1025.3147 | V7: =J7*((1-K7)+R7)/2 -> 344.61511 | W7: =J7*((1-K7)-R7)/2 -> 995.5066 | X7: =J7*((1-K7)+S7)/2 -> 355.72875 | Y7: =J7*((1-K7)-S7)/2 -> 984.39296 | Z7: =MAX(-(1-K7),MIN(1-K7,((G7-H7)/C7)+O7+Assumptions!$B$6*P7/Assumptions!$B$21)) -> -0.40205385 | AA7: =B7*((1-K7)+Z7)/2 -> 41.890549 | AB7: =B7*((1-K7)-Z7)/2 -> 99.38425 | AC7: =J7-B7 -> 1213.4868 | AD7: =V7-AA7 -> 302.72456 | AE7: =W7-AB7 -> 896.12235 | AF7: =IF(AC7>0,(AD7-AE7)/AC7,0) -> -0.48900225 | AG7: =R7-M7 -> 0.059484614 | AH7: =IF(V7>W7,"D","R") -> R
A8: BACON | B8: 430 | C8: 2632 | D8: 3710 | E8: 458 | F8: 3204 | G8: 283 | H8: 2301 | I8: -0.73176276 | J8: =B8*D8/C8*Assumptions!$B$20 -> 2872.2203 | K8: =(D8-E8-F8)/D8 -> 0.012938005 | L8: =E8/(E8+F8) -> 0.12506827 | M8: =(E8-F8)/D8 -> -0.74016173 | N8: =(I8-Assumptions!$B$10)-(M8-Assumptions!$B$8) -> 0.039894278 | O8: =Assumptions!$B$4*N8 -> 0.019947139 | P8: =4*L8*(1-L8) -> 0.43770479 | Q8: =MAX(-(1-K8),MIN(1-K8,M8+O8+Assumptions!$B$5*P8/Assumptions!$B$21)) -> -0.72021459 | R8: =MAX(-(1-K8),MIN(1-K8,M8+O8+Assumptions!$B$6*P8/Assumptions!$B$21)) -> -0.69281136 | S8: =MAX(-(1-K8),MIN(1-K8,M8+O8+Assumptions!$B$7*P8/Assumptions!$B$21)) -> -0.68259434 | T8: =J8*((1-K8)+Q8)/2 -> 383.22227 | U8: =J8*((1-K8)-Q8)/2 -> 2451.8372 | V8: =J8*((1-K8)+R8)/2 -> 422.57632 | W8: =J8*((1-K8)-R8)/2 -> 2412.4832 | X8: =J8*((1-K8)+S8)/2 -> 437.24908 | Y8: =J8*((1-K8)-S8)/2 -> 2397.8104 | Z8: =MAX(-(1-K8),MIN(1-K8,((G8-H8)/C8)+O8+Assumptions!$B$6*P8/Assumptions!$B$21)) -> -0.71936696 | AA8: =B8*((1-K8)+Z8)/2 -> 57.554433 | AB8: =B8*((1-K8)-Z8)/2 -> 366.88222 | AC8: =J8-B8 -> 2442.2203 | AD8: =V8-AA8 -> 365.02189 | AE8: =W8-AB8 -> 2045.6009 | AF8: =IF(AC8>0,(AD8-AE8)/AC8,0) -> -0.68813573 | AG8: =R8-M8 -> 0.047350366 | AH8: =IF(V8>W8,"D","R") -> R
A9: BAKER | B9: 113 | C9: 605 | D9: 1249 | E9: 526 | F9: 711 | G9: 272 | H9: 322 | I9: -0.19850949 | J9: =B9*D9/C9*Assumptions!$B$20 -> 1105.4695 | K9: =(D9-E9-F9)/D9 -> 0.0096076861 | L9: =E9/(E9+F9) -> 0.42522231 | M9: =(E9-F9)/D9 -> -0.14811849 | N9: =(I9-Assumptions!$B$10)-(M9-Assumptions!$B$8) -> -0.018895677 | O9: =Assumptions!$B$4*N9 -> -0.0094478385 | P9: =4*L9*(1-L9) -> 0.97763319 | Q9: =MAX(-(1-K9),MIN(1-K9,M9+O9+Assumptions!$B$5*P9/Assumptions!$B$21)) -> -0.15756633 | R9: =MAX(-(1-K9),MIN(1-K9,M9+O9+Assumptions!$B$6*P9/Assumptions!$B$21)) -> -0.096360001 | S9: =MAX(-(1-K9),MIN(1-K9,M9+O9+Assumptions!$B$7*P9/Assumptions!$B$21)) -> -0.073539844 | T9: =J9*((1-K9)+Q9)/2 -> 460.33187 | U9: =J9*((1-K9)-Q9)/2 -> 634.51665 | V9: =J9*((1-K9)+R9)/2 -> 494.16274 | W9: =J9*((1-K9)-R9)/2 -> 600.68578 | X9: =J9*((1-K9)+S9)/2 -> 506.77623 | Y9: =J9*((1-K9)-S9)/2 -> 588.07229 | Z9: =MAX(-(1-K9),MIN(1-K9,((G9-H9)/C9)+O9+Assumptions!$B$6*P9/Assumptions!$B$21)) -> -0.030886134 | AA9: =B9*((1-K9)+Z9)/2 -> 54.212099 | AB9: =B9*((1-K9)-Z9)/2 -> 57.702232 | AC9: =J9-B9 -> 992.46952 | AD9: =V9-AA9 -> 439.95064 | AE9: =W9-AB9 -> 542.98355 | AF9: =IF(AC9>0,(AD9-AE9)/AC9,0) -> -0.10381468 | AG9: =R9-M9 -> 0.051758494 | AH9: =IF(V9>W9,"D","R") -> R
A10: BALDWIN | B10: 2450 | C10: 8891 | D10: 14957 | E10: 7327 | F10: 7416 | G10: 4343 | H10: 4403 | I10: -0.022045153 | J10: =B10*D10/C10*Assumptions!$B$20 -> 19530.854 | K10: =(D10-E10-F10)/D10 -> 0.014307682 | L10: =E10/(E10+F10) -> 0.49698162 | M10: =(E10-F10)/D10 -> -0.0059503911 | N10: =(I10-Assumptions!$B$10)-(M10-Assumptions!$B$8) -> 0.015400552 | O10: =Assumptions!$B$4*N10 -> 0.0077002759 | P10: =4*L10*(1-L10) -> 0.99996356 | Q10: =MAX(-(1-K10),MIN(1-K10,M10+O10+Assumptions!$B$5*P10/Assumptions!$B$21)) -> 0.0017498848 | R10: =MAX(-(1-K10),MIN(1-K10,M10+O10+Assumptions!$B$6*P10/Assumptions!$B$21)) -> 0.064354247 | S10: =MAX(-(1-K10),MIN(1-K10,M10+O10+Assumptions!$B$7*P10/Assumptions!$B$21)) -> 0.087695644 | T10: =J10*((1-K10)+Q10)/2 -> 9642.7948 | U10: =J10*((1-K10)-Q10)/2 -> 9608.618 | V10: =J10*((1-K10)+R10)/2 -> 10254.153 | W10: =J10*((1-K10)-R10)/2 -> 8997.2597 | X10: =J10*((1-K10)+S10)/2 -> 10482.092 | Y10: =J10*((1-K10)-S10)/2 -> 8769.321 | Z10: =MAX(-(1-K10),MIN(1-K10,((G10-H10)/C10)+O10+Assumptions!$B$6*P10/Assumptions!$B$21)) -> 0.063556241 | AA10: =B10*((1-K10)+Z10)/2 -> 1285.3295 | AB10: =B10*((1-K10)-Z10)/2 -> 1129.6167 | AC10: =J10-B10 -> 17080.854 | AD10: =V10-AA10 -> 8968.8236 | AE10: =W10-AB10 -> 7867.643 | AF10: =IF(AC10>0,(AD10-AE10)/AC10,0) -> 0.064468709 | AG10: =R10-M10 -> 0.070304638 | AH10: =IF(V10>W10,"D","R") -> D
A11: BANKS | B11: 931 | C11: 4446 | D11: 7293 | E11: 772 | F11: 6362 | G11: 446 | H11: 3887 | I11: -0.78163324 | J11: =B11*D11/C11*Assumptions!$B$20 -> 7236.8189 | K11: =(D11-E11-F11)/D11 -> 0.021801728 | L11: =E11/(E11+F11) -> 0.10821419 | M11: =(E11-F11)/D11 -> -0.76648841 | N11: =(I11-Assumptions!$B$10)-(M11-Assumptions!$B$8) -> 0.016350492 | O11: =Assumptions!$B$4*N11 -> 0.0081752459 | P11: =4*L11*(1-L11) -> 0.3860155 | Q11: =MAX(-(1-K11),MIN(1-K11,M11+O11+Assumptions!$B$5*P11/Assumptions!$B$21)) -> -0.75831317 | R11: =MAX(-(1-K11),MIN(1-K11,M11+O11+Assumptions!$B$6*P11/Assumptions!$B$21)) -> -0.73414603 | S11: =MAX(-(1-K11),MIN(1-K11,M11+O11+Assumptions!$B$7*P11/Assumptions!$B$21)) -> -0.72513556 | T11: =J11*((1-K11)+Q11)/2 -> 795.63434 | U11: =J11*((1-K11)-Q11)/2 -> 6283.4094 | V11: =J11*((1-K11)+R11)/2 -> 883.08093 | W11: =J11*((1-K11)-R11)/2 -> 6195.9628 | X11: =J11*((1-K11)+S11)/2 -> 915.68449 | Y11: =J11*((1-K11)-S11)/2 -> 6163.3592 | Z11: =MAX(-(1-K11),MIN(1-K11,((G11-H11)/C11)+O11+Assumptions!$B$6*P11/Assumptions!$B$21)) -> -0.74161174 | AA11: =B11*((1-K11)+Z11)/2 -> 110.13103 | AB11: =B11*((1-K11)-Z11)/2 -> 800.57156 | AC11: =J11-B11 -> 6305.8189 | AD11: =V11-AA11 -> 772.94989 | AE11: =W11-AB11 -> 5395.3912 | AF11: =IF(AC11>0,(AD11-AE11)/AC11,0) -> -0.73304379 | AG11: =R11-M11 -> 0.032342381 | AH11: =IF(V11>W11,"D","R") -> R
A12: BARROW | B12: 3715 | C12: 15575 | D12: 29273 | E12: 8244 | F12: 20136 | G12: 4534 | H12: 10531 | I12: -0.40472072 | J12: =B12*D12/C12*Assumptions!$B$20 -> 33087.143 | K12: =(D12-E12-F12)/D12 -> 0.030505927 | L12: =E12/(E12+F12) -> 0.29048626 | M12: =(E12-F12)/D12 -> -0.40624466 | N12: =(I12-Assumptions!$B$10)-(M12-Assumptions!$B$8) -> 0.033019258 | O12: =Assumptions!$B$4*N12 -> 0.016509629 | P12: =4*L12*(1-L12) -> 0.82441597 | Q12: =MAX(-(1-K12),MIN(1-K12,M12+O12+Assumptions!$B$5*P12/Assumptions!$B$21)) -> -0.38973503 | R12: =MAX(-(1-K12),MIN(1-K12,M12+O12+Assumptions!$B$6*P12/Assumptions!$B$21)) -> -0.33812112 | S12: =MAX(-(1-K12),MIN(1-K12,M12+O12+Assumptions!$B$7*P12/Assumptions!$B$21)) -> -0.31887739 | T12: =J12*((1-K12)+Q12)/2 -> 9591.285 | U12: =J12*((1-K12)-Q12)/2 -> 22486.504 | V12: =J12*((1-K12)+R12)/2 -> 10445.163 | W12: =J12*((1-K12)-R12)/2 -> 21632.625 | X12: =J12*((1-K12)+S12)/2 -> 10763.523 | Y12: =J12*((1-K12)-S12)/2 -> 21314.265 | Z12: =MAX(-(1-K12),MIN(1-K12,((G12-H12)/C12)+O12+Assumptions!$B$6*P12/Assumptions!$B$21)) -> -0.31691658 | AA12: =B12*((1-K12)+Z12)/2 -> 1212.1627 | AB12: =B12*((1-K12)-Z12)/2 -> 2389.5078 | AC12: =J12-B12 -> 29372.143 | AD12: =V12-AA12 -> 9233.0008 | AE12: =W12-AB12 -> 19243.117 | AF12: =IF(AC12>0,(AD12-AE12)/AC12,0) -> -0.34080307 | AG12: =R12-M12 -> 0.068123546 | AH12: =IF(V12>W12,"D","R") -> R
A13: BARTOW | B13: 3785 | C13: 20621 | D13: 39763 | E13: 9349 | F13: 29361 | G13: 5267 | H13: 14783 | I13: -0.50965298 | J13: =B13*D13/C13*Assumptions!$B$20 -> 34585.7 | K13: =(D13-E13-F13)/D13 -> 0.026481905 | L13: =E13/(E13+F13) -> 0.24151382 | M13: =(E13-F13)/D13 -> -0.50328195 | N13: =(I13-Assumptions!$B$10)-(M13-Assumptions!$B$8) -> 0.02512428 | O13: =Assumptions!$B$4*N13 -> 0.01256214 | P13: =4*L13*(1-L13) -> 0.73273958 | Q13: =MAX(-(1-K13),MIN(1-K13,M13+O13+Assumptions!$B$5*P13/Assumptions!$B$21)) -> -0.49071981 | R13: =MAX(-(1-K13),MIN(1-K13,M13+O13+Assumptions!$B$6*P13/Assumptions!$B$21)) -> -0.44484544 | S13: =MAX(-(1-K13),MIN(1-K13,M13+O13+Assumptions!$B$7*P13/Assumptions!$B$21)) -> -0.42774165 | T13: =J13*((1-K13)+Q13)/2 -> 8348.9584 | U13: =J13*((1-K13)-Q13)/2 -> 25320.846 | V13: =J13*((1-K13)+R13)/2 -> 9142.2569 | W13: =J13*((1-K13)-R13)/2 -> 24527.548 | X13: =J13*((1-K13)+S13)/2 -> 9438.0302 | Y13: =J13*((1-K13)-S13)/2 -> 24231.775 | Z13: =MAX(-(1-K13),MIN(1-K13,((G13-H13)/C13)+O13+Assumptions!$B$6*P13/Assumptions!$B$21)) -> -0.40303481 | AA13: =B13*((1-K13)+Z13)/2 -> 1079.6396 | AB13: =B13*((1-K13)-Z13)/2 -> 2605.1264 | AC13: =J13-B13 -> 30800.7 | AD13: =V13-AA13 -> 8062.6173 | AE13: =W13-AB13 -> 21922.422 | AF13: =IF(AC13>0,(AD13-AE13)/AC13,0) -> -0.44998342 | AG13: =R13-M13 -> 0.058436506 | AH13: =IF(V13>W13,"D","R") -> R
A14: BEN HILL | B14: 753 | C14: 3528 | D14: 5075 | E14: 1767 | F14: 3235 | G14: 1184 | H14: 2266 | I14: -0.32025842 | J14: =B14*D14/C14*Assumptions!$B$20 -> 5132.9107 | K14: =(D14-E14-F14)/D14 -> 0.014384236 | L14: =E14/(E14+F14) -> 0.3532587 | M14: =(E14-F14)/D14 -> -0.28926108 | N14: =(I14-Assumptions!$B$10)-(M14-Assumptions!$B$8) -> 0.00049797533 | O14: =Assumptions!$B$4*N14 -> 0.00024898766 | P14: =4*L14*(1-L14) -> 0.91386796 | Q14: =MAX(-(1-K14),MIN(1-K14,M14+O14+Assumptions!$B$5*P14/Assumptions!$B$21)) -> -0.2890121 | R14: =MAX(-(1-K14),MIN(1-K14,M14+O14+Assumptions!$B$6*P14/Assumptions!$B$21)) -> -0.23179789 | S14: =MAX(-(1-K14),MIN(1-K14,M14+O14+Assumptions!$B$7*P14/Assumptions!$B$21)) -> -0.21046616 | T14: =J14*((1-K14)+Q14)/2 -> 1787.8022 | U14: =J14*((1-K14)-Q14)/2 -> 3271.2755 | V14: =J14*((1-K14)+R14)/2 -> 1934.6399 | W14: =J14*((1-K14)-R14)/2 -> 3124.4378 | X14: =J14*((1-K14)+S14)/2 -> 1989.3869 | Y14: =J14*((1-K14)-S14)/2 -> 3069.6909 | Z14: =MAX(-(1-K14),MIN(1-K14,((G14-H14)/C14)+O14+Assumptions!$B$6*P14/Assumptions!$B$21)) -> -0.24922615 | AA14: =B14*((1-K14)+Z14)/2 -> 277.25069 | AB14: =B14*((1-K14)-Z14)/2 -> 464.91798 | AC14: =J14-B14 -> 4379.9107 | AD14: =V14-AA14 -> 1657.3892 | AE14: =W14-AB14 -> 2659.5198 | AF14: =IF(AC14>0,(AD14-AE14)/AC14,0) -> -0.2288016 | AG14: =R14-M14 -> 0.057463193 | AH14: =IF(V14>W14,"D","R") -> R
A15: BERRIEN | B15: 528 | C15: 2984 | D15: 5990 | E15: 909 | F15: 5002 | G15: 441 | H15: 2498 | I15: -0.69806644 | J15: =B15*D15/C15*Assumptions!$B$20 -> 5022.5376 | K15: =(D15-E15-F15)/D15 -> 0.013188648 | L15: =E15/(E15+F15) -> 0.15378109 | M15: =(E15-F15)/D15 -> -0.68330551 | N15: =(I15-Assumptions!$B$10)-(M15-Assumptions!$B$8) -> 0.016734387 | O15: =Assumptions!$B$4*N15 -> 0.0083671936 | P15: =4*L15*(1-L15) -> 0.52052985 | Q15: =MAX(-(1-K15),MIN(1-K15,M15+O15+Assumptions!$B$5*P15/Assumptions!$B$21)) -> -0.67493832 | R15: =MAX(-(1-K15),MIN(1-K15,M15+O15+Assumptions!$B$6*P15/Assumptions!$B$21)) -> -0.64234969 | S15: =MAX(-(1-K15),MIN(1-K15,M15+O15+Assumptions!$B$7*P15/Assumptions!$B$21)) -> -0.63019935 | T15: =J15*((1-K15)+Q15)/2 -> 783.19702 | U15: =J15*((1-K15)-Q15)/2 -> 4173.1001 | V15: =J15*((1-K15)+R15)/2 -> 865.03582 | W15: =J15*((1-K15)-R15)/2 -> 4091.2613 | X15: =J15*((1-K15)+S15)/2 -> 895.54858 | Y15: =J15*((1-K15)-S15)/2 -> 4060.7485 | Z15: =MAX(-(1-K15),MIN(1-K15,((G15-H15)/C15)+O15+Assumptions!$B$6*P15/Assumptions!$B$21)) -> -0.64838734 | AA15: =B15*((1-K15)+Z15)/2 -> 89.343938 | AB15: =B15*((1-K15)-Z15)/2 -> 431.69246 | AC15: =J15-B15 -> 4494.5376 | AD15: =V15-AA15 -> 775.69188 | AE15: =W15-AB15 -> 3659.5688 | AF15: =IF(AC15>0,(AD15-AE15)/AC15,0) -> -0.64164041 | AG15: =R15-M15 -> 0.040955821 | AH15: =IF(V15>W15,"D","R") -> R
A16: BIBB | B16: 6891 | C16: 26842 | D16: 54007 | E16: 33105 | F16: 20203 | G16: 17977 | H16: 8511 | I16: 0.22425232 | J16: =B16*D16/C16*Assumptions!$B$20 -> 65702.016 | K16: =(D16-E16-F16)/D16 -> 0.012942767 | L16: =E16/(E16+F16) -> 0.62101373 | M16: =(E16-F16)/D16 -> 0.23889496 | N16: =(I16-Assumptions!$B$10)-(M16-Assumptions!$B$8) -> 0.016852679 | O16: =Assumptions!$B$4*N16 -> 0.0084263395 | P16: =4*L16*(1-L16) -> 0.94142271 | Q16: =MAX(-(1-K16),MIN(1-K16,M16+O16+Assumptions!$B$5*P16/Assumptions!$B$21)) -> 0.2473213 | R16: =MAX(-(1-K16),MIN(1-K16,M16+O16+Assumptions!$B$6*P16/Assumptions!$B$21)) -> 0.30626061 | S16: =MAX(-(1-K16),MIN(1-K16,M16+O16+Assumptions!$B$7*P16/Assumptions!$B$21)) -> 0.32823554 | T16: =J16*((1-K16)+Q16)/2 -> 40550.579 | U16: =J16*((1-K16)-Q16)/2 -> 24301.071 | V16: =J16*((1-K16)+R16)/2 -> 42486.795 | W16: =J16*((1-K16)-R16)/2 -> 22364.855 | X16: =J16*((1-K16)+S16)/2 -> 43208.694 | Y16: =J16*((1-K16)-S16)/2 -> 21642.957 | Z16: =MAX(-(1-K16),MIN(1-K16,((G16-H16)/C16)+O16+Assumptions!$B$6*P16/Assumptions!$B$21)) -> 0.42002194 | AA16: =B16*((1-K16)+Z16)/2 -> 4848.0913 | AB16: =B16*((1-K16)-Z16)/2 -> 1953.7201 | AC16: =J16-B16 -> 58811.016 | AD16: =V16-AA16 -> 37638.704 | AE16: =W16-AB16 -> 20411.135 | AF16: =IF(AC16>0,(AD16-AE16)/AC16,0) -> 0.29293098 | AG16: =R16-M16 -> 0.067365655 | AH16: =IF(V16>W16,"D","R") -> D
A17: BLECKLEY | B17: 648 | C17: 2697 | D17: 4791 | E17: 1039 | F17: 3675 | G17: 504 | H17: 2137 | I17: -0.55360688 | J17: =B17*D17/C17*Assumptions!$B$20 -> 5454.8335 | K17: =(D17-E17-F17)/D17 -> 0.016071801 | L17: =E17/(E17+F17) -> 0.2204073 | M17: =(E17-F17)/D17 -> -0.55019829 | N17: =(I17-Assumptions!$B$10)-(M17-Assumptions!$B$8) -> 0.028086719 | O17: =Assumptions!$B$4*N17 -> 0.014043359 | P17: =4*L17*(1-L17) -> 0.68731168 | Q17: =MAX(-(1-K17),MIN(1-K17,M17+O17+Assumptions!$B$5*P17/Assumptions!$B$21)) -> -0.53615493 | R17: =MAX(-(1-K17),MIN(1-K17,M17+O17+Assumptions!$B$6*P17/Assumptions!$B$21)) -> -0.49312465 | S17: =MAX(-(1-K17),MIN(1-K17,M17+O17+Assumptions!$B$7*P17/Assumptions!$B$21)) -> -0.47708125 | T17: =J17*((1-K17)+Q17)/2 -> 1221.2643 | U17: =J17*((1-K17)-Q17)/2 -> 4145.9002 | V17: =J17*((1-K17)+R17)/2 -> 1338.6258 | W17: =J17*((1-K17)-R17)/2 -> 4028.5387 | X17: =J17*((1-K17)+S17)/2 -> 1382.3828 | Y17: =J17*((1-K17)-S17)/2 -> 3984.7816 | Z17: =MAX(-(1-K17),MIN(1-K17,((G17-H17)/C17)+O17+Assumptions!$B$6*P17/Assumptions!$B$21)) -> -0.54841394 | AA17: =B17*((1-K17)+Z17)/2 -> 141.10662 | AB17: =B17*((1-K17)-Z17)/2 -> 496.47885 | AC17: =J17-B17 -> 4806.8335 | AD17: =V17-AA17 -> 1197.5192 | AE17: =W17-AB17 -> 3532.0598 | AF17: =IF(AC17>0,(AD17-AE17)/AC17,0) -> -0.48567121 | AG17: =R17-M17 -> 0.057073637 | AH17: =IF(V17>W17,"D","R") -> R
... A164: WORTH | B164: 673 | C164: 3177 | D164: 7358 | E164: 1842 | F164: 5416 | G164: 979 | H164: 2121 | I164: -0.50392094 | J164: =B164*D164/C164*Assumptions!$B$20 -> 7386.1632 | K164: =(D164-E164-F164)/D164 -> 0.01359065 | L164: =E164/(E164+F164) -> 0.25378892 | M164: =(E164-F164)/D164 -> -0.48572982 | N164: =(I164-Assumptions!$B$10)-(M164-Assumptions!$B$8) -> 0.013304195 | O164: =Assumptions!$B$4*N164 -> 0.0066520973 | P164: =4*L164*(1-L164) -> 0.75752042 | Q164: =MAX(-(1-K164),MIN(1-K164,M164+O164+Assumptions!$B$5*P164/Assumptions!$B$21)) -> -0.47907772 | R164: =MAX(-(1-K164),MIN(1-K164,M164+O164+Assumptions!$B$6*P164/Assumptions!$B$21)) -> -0.43165191 | S164: =MAX(-(1-K164),MIN(1-K164,M164+O164+Assumptions!$B$7*P164/Assumptions!$B$21)) -> -0.41396968 | T164: =J164*((1-K164)+Q164)/2 -> 1873.6171 | U164: =J164*((1-K164)-Q164)/2 -> 5412.1633 | V164: =J164*((1-K164)+R164)/2 -> 2048.7645 | W164: =J164*((1-K164)-R164)/2 -> 5237.0159 | X164: =J164*((1-K164)+S164)/2 -> 2114.0664 | Y164: =J164*((1-K164)-S164)/2 -> 5171.714 | Z164: =MAX(-(1-K164),MIN(1-K164,((G164-H164)/C164)+O164+Assumptions!$B$6*P164/Assumptions!$B$21)) -> -0.3053807 | AA164: =B164*((1-K164)+Z164)/2 -> 229.16614 | AB164: =B164*((1-K164)-Z164)/2 -> 434.68735 | AC164: =J164-B164 -> 6713.1632 | AD164: =V164-AA164 -> 1819.5984 | AE164: =W164-AB164 -> 4802.3286 | AF164: =IF(AC164>0,(AD164-AE164)/AC164,0) -> -0.4443107 | AG164: =R164-M164 -> 0.054077908 | AH164: =IF(V164>W164,"D","R") -> R
A165: STATE TOTAL | B165: =SUM(B6:B164) -> 528827 | C165: =SUM(C6:C164) -> 2289951 | D165: =SUM(D6:D164) -> 3935924 | E165: =SUM(E6:E164) -> 1946117 | F165: =SUM(F6:F164) -> 1908442 | G165: =SUM(G6:G164) -> 1202113 | H165: =SUM(H6:H164) -> 1038220 | J165: =SUM(J6:J164) -> 4300000 | M165: =(E165-F165)/D165 -> 0.0095720852 | Q165: =(T165-U165)/J165 -> 0.03025643 | R165: =(V165-W165)/J165 -> 0.081245628 | S165: =(X165-Y165)/J165 -> 0.10025643 | T165: =SUM(T6:T164) -> 2170738.3 | U165: =SUM(U6:U164) -> 2040635.6 | V165: =SUM(V6:V164) -> 2280365 | W165: =SUM(W6:W164) -> 1931008.8 | X165: =SUM(X6:X164) -> 2321238.3 | Y165: =SUM(Y6:Y164) -> 1890135.6 | Z165: =(AA165-AB165)/B165 -> 0.14316419 | AA165: =SUM(AA6:AA164) -> 296813.06 | AB165: =SUM(AB6:AB164) -> 221103.97 | AC165: =SUM(AC6:AC164) -> 3771173 | AD165: =SUM(AD6:AD164) -> 1983552 | AE165: =SUM(AE6:AE164) -> 1709904.9 | AF165: =(AD165-AE165)/AC165 -> 0.072562863

Sheet Governor
A1: Governor: county-by-county projection (2026 ballots to date at 7:33 PM, 10/15/2026)
A2: Blue = input data. Margin = (D minus R) / all votes, in percentage points. Scenario levers are on the Assumptions sheet.
A5: County | B5: 2026 ballots to date | C5: 2022 in-person early votes | D5: 2022 final votes | E5: 2022 D votes | F5: 2022 R votes | G5: Early-vs-final Senate margin gap (2022) | H5: 2022 Senate margin (ref) | I5: 2024 presidential margin (Harris-Trump) | J5: Projected final votes | K5: 2022 Libertarian share | L5: 2022 two-party D share | M5: 2022 margin | N5: 2024 relative county trend | O5: County trend adjustment | P5: Elasticity 4p(1-p) | Q5: Floor margin | R5: BASE margin | S5: High margin | T5: Floor D votes | U5: Floor R votes | V5: BASE D votes | W5: BASE R votes | X5: High D votes | Y5: High R votes | Z5: Early margin (cast so far, base) | AA5: D cast so far (est.) | AB5: R cast so far (est.) | AC5: Votes remaining | AD5: D remaining (est.) | AE5: R remaining (est.) | AF5: Remaining margin (Election Day etc.) | AG5: BASE county shift vs 2022 (pts) | AH5: BASE winner
A6: APPLING | B6: 766 | C6: 3302 | D6: 6703 | E6: 1131 | F6: 5552 | G6: =(Senate!G6-Senate!H6)/Senate!C6-Senate!M6 -> 0.050302079 | H6: =Senate!M6 -> -0.61238567 | I6: -0.62407007 | J6: =Senate!J6 -> 7331.1767 | K6: =(D6-E6-F6)/D6 -> 0.0029837386 | L6: =E6/(E6+F6) -> 0.16923537 | M6: =(E6-F6)/D6 -> -0.65955542 | N6: =(I6-Assumptions!$B$10)-(M6-Assumptions!$B$9) -> -0.017943879 | O6: =Assumptions!$B$4*N6 -> -0.0089719394 | P6: =4*L6*(1-L6) -> 0.56237905 | Q6: =MAX(-(1-K6),MIN(1-K6,M6+O6+Assumptions!$B$5*P6/Assumptions!$B$22)) -> -0.66852736 | R6: =MAX(-(1-K6),MIN(1-K6,M6+O6+Assumptions!$B$6*P6/Assumptions!$B$22)) -> -0.6333583 | S6: =MAX(-(1-K6),MIN(1-K6,M6+O6+Assumptions!$B$7*P6/Assumptions!$B$22)) -> -0.62024587 | T6: =J6*((1-K6)+Q6)/2 -> 1204.1051 | U6: =J6*((1-K6)-Q6)/2 -> 6105.1973 | V6: =J6*((1-K6)+R6)/2 -> 1333.0204 | W6: =J6*((1-K6)-R6)/2 -> 5976.282 | X6: =J6*((1-K6)+S6)/2 -> 1381.0851 | Y6: =J6*((1-K6)-S6)/2 -> 5928.2172 | Z6: =MAX(-(1-K6),MIN(1-K6,(M6+G6)+O6+Assumptions!$B$6*P6/Assumptions!$B$22)) -> -0.58305622 | AA6: =B6*((1-K6)+Z6)/2 -> 158.5467 | AB6: =B6*((1-K6)-Z6)/2 -> 605.16776 | AC6: =J6-B6 -> 6565.1767 | AD6: =V6-AA6 -> 1174.4737 | AE6: =W6-AB6 -> 5371.1142 | AF6: =IF(AC6>0,(AD6-AE6)/AC6,0) -> -0.63922736 | AG6: =R6-M6 -> 0.026197124 | AH6: =IF(V6>W6,"D","R") -> R
A7: ATKINSON | B7: 143 | C7: 1118 | D7: 2246 | E7: 467 | F7: 1767 | G7: =(Senate!G7-Senate!H7)/Senate!C7-Senate!M7 -> 0.077782361 | H7: =Senate!M7 -> -0.53932082 | I7: -0.53974485 | J7: =Senate!J7 -> 1356.4868 | K7: =(D7-E7-F7)/D7 -> 0.0053428317 | L7: =E7/(E7+F7) -> 0.20904208 | M7: =(E7-F7)/D7 -> -0.57880677 | N7: =(I7-Assumptions!$B$10)-(M7-Assumptions!$B$9) -> -0.014367308 | O7: =Assumptions!$B$4*N7 -> -0.0071836538 | P7: =4*L7*(1-L7) -> 0.66137395 | Q7: =MAX(-(1-K7),MIN(1-K7,M7+O7+Assumptions!$B$5*P7/Assumptions!$B$22)) -> -0.58599042 | R7: =MAX(-(1-K7),MIN(1-K7,M7+O7+Assumptions!$B$6*P7/Assumptions!$B$22)) -> -0.54463059 | S7: =MAX(-(1-K7),MIN(1-K7,M7+O7+Assumptions!$B$7*P7/Assumptions!$B$22)) -> -0.52921 | T7: =J7*((1-K7)+Q7)/2 -> 277.17553 | U7: =J7*((1-K7)-Q7)/2 -> 1072.0638 | V7: =J7*((1-K7)+R7)/2 -> 305.22756 | W7: =J7*((1-K7)-R7)/2 -> 1044.0118 | X7: =J7*((1-K7)+S7)/2 -> 315.68648 | Y7: =J7*((1-K7)-S7)/2 -> 1033.5529 | Z7: =MAX(-(1-K7),MIN(1-K7,(M7+G7)+O7+Assumptions!$B$6*P7/Assumptions!$B$22)) -> -0.46684823 | AA7: =B7*((1-K7)+Z7)/2 -> 37.738339 | AB7: =B7*((1-K7)-Z7)/2 -> 104.49764 | AC7: =J7-B7 -> 1213.4868 | AD7: =V7-AA7 -> 267.48922 | AE7: =W7-AB7 -> 939.51415 | AF7: =IF(AC7>0,(AD7-AE7)/AC7,0) -> -0.55379664 | AG7: =R7-M7 -> 0.034176177 | AH7: =IF(V7>W7,"D","R") -> R
A8: BACON | B8: 430 | C8: 2632 | D8: 3721 | E8: 393 | F8: 3312 | G8: =(Senate!G8-Senate!H8)/Senate!C8-Senate!M8 -> -0.0265556 | H8: =Senate!M8 -> -0.74016173 | I8: -0.73176276 | J8: =Senate!J8 -> 2872.2203 | K8: =(D8-E8-F8)/D8 -> 0.0042999194 | L8: =E8/(E8+F8) -> 0.10607287 | M8: =(E8-F8)/D8 -> -0.78446654 | N8: =(I8-Assumptions!$B$10)-(M8-Assumptions!$B$9) -> -0.00072544692 | O8: =Assumptions!$B$4*N8 -> -0.00036272346 | P8: =4*L8*(1-L8) -> 0.37928568 | Q8: =MAX(-(1-K8),MIN(1-K8,M8+O8+Assumptions!$B$5*P8/Assumptions!$B$22)) -> -0.78482926 | R8: =MAX(-(1-K8),MIN(1-K8,M8+O8+Assumptions!$B$6*P8/Assumptions!$B$22)) -> -0.76111017 | S8: =MAX(-(1-K8),MIN(1-K8,M8+O8+Assumptions!$B$7*P8/Assumptions!$B$22)) -> -0.75226675 | T8: =J8*((1-K8)+Q8)/2 -> 302.83372 | U8: =J8*((1-K8)-Q8)/2 -> 2557.0363 | V8: =J8*((1-K8)+R8)/2 -> 336.89695 | W8: =J8*((1-K8)-R8)/2 -> 2522.973 | X8: =J8*((1-K8)+S8)/2 -> 349.59708 | Y8: =J8*((1-K8)-S8)/2 -> 2510.2729 | Z8: =MAX(-(1-K8),MIN(1-K8,(M8+G8)+O8+Assumptions!$B$6*P8/Assumptions!$B$22)) -> -0.78766577 | AA8: =B8*((1-K8)+Z8)/2 -> 44.727377 | AB8: =B8*((1-K8)-Z8)/2 -> 383.42366 | AC8: =J8-B8 -> 2442.2203 | AD8: =V8-AA8 -> 292.16957 | AE8: =W8-AB8 -> 2139.5494 | AF8: =IF(AC8>0,(AD8-AE8)/AC8,0) -> -0.75643454 | AG8: =R8-M8 -> 0.023356371 | AH8: =IF(V8>W8,"D","R") -> R
A9: BAKER | B9: 113 | C9: 605 | D9: 1258 | E9: 500 | F9: 755 | G9: =(Senate!G9-Senate!H9)/Senate!C9-Senate!M9 -> 0.065473867 | H9: =Senate!M9 -> -0.14811849 | I9: -0.19850949 | J9: =Senate!J9 -> 1105.4695 | K9: =(D9-E9-F9)/D9 -> 0.0023847377 | L9: =E9/(E9+F9) -> 0.39840637 | M9: =(E9-F9)/D9 -> -0.2027027 | N9: =(I9-Assumptions!$B$10)-(M9-Assumptions!$B$9) -> -0.04923601 | O9: =Assumptions!$B$4*N9 -> -0.024618005 | P9: =4*L9*(1-L9) -> 0.95871494 | Q9: =MAX(-(1-K9),MIN(1-K9,M9+O9+Assumptions!$B$5*P9/Assumptions!$B$22)) -> -0.22732071 | R9: =MAX(-(1-K9),MIN(1-K9,M9+O9+Assumptions!$B$6*P9/Assumptions!$B$22)) -> -0.16736629 | S9: =MAX(-(1-K9),MIN(1-K9,M9+O9+Assumptions!$B$7*P9/Assumptions!$B$22)) -> -0.1450129 | T9: =J9*((1-K9)+Q9)/2 -> 425.76858 | U9: =J9*((1-K9)-Q9)/2 -> 677.06469 | V9: =J9*((1-K9)+R9)/2 -> 458.90747 | W9: =J9*((1-K9)-R9)/2 -> 643.9258 | X9: =J9*((1-K9)+S9)/2 -> 471.26296 | Y9: =J9*((1-K9)-S9)/2 -> 631.57031 | Z9: =MAX(-(1-K9),MIN(1-K9,(M9+G9)+O9+Assumptions!$B$6*P9/Assumptions!$B$22)) -> -0.10189243 | AA9: =B9*((1-K9)+Z9)/2 -> 50.60834 | AB9: =B9*((1-K9)-Z9)/2 -> 62.122184 | AC9: =J9-B9 -> 992.46952 | AD9: =V9-AA9 -> 408.29913 | AE9: =W9-AB9 -> 581.80362 | AF9: =IF(AC9>0,(AD9-AE9)/AC9,0) -> -0.17482098 | AG9: =R9-M9 -> 0.035336409 | AH9: =IF(V9>W9,"D","R") -> R
A10: BALDWIN | B10: 2450 | C10: 8891 | D10: 15002 | E10: 6913 | F10: 7987 | G10: =(Senate!G10-Senate!H10)/Senate!C10-Senate!M10 -> -0.00079800613 | H10: =Senate!M10 -> -0.0059503911 | I10: -0.022045153 | J10: =Senate!J10 -> 19530.854 | K10: =(D10-E10-F10)/D10 -> 0.0067990935 | L10: =E10/(E10+F10) -> 0.46395973 | M10: =(E10-F10)/D10 -> -0.071590455 | N10: =(I10-Assumptions!$B$10)-(M10-Assumptions!$B$9) -> -0.0038839254 | O10: =Assumptions!$B$4*N10 -> -0.0019419627 | P10: =4*L10*(1-L10) -> 0.9948044 | Q10: =MAX(-(1-K10),MIN(1-K10,M10+O10+Assumptions!$B$5*P10/Assumptions!$B$22)) -> -0.073532417 | R10: =MAX(-(1-K10),MIN(1-K10,M10+O10+Assumptions!$B$6*P10/Assumptions!$B$22)) -> -0.011321105 | S10: =MAX(-(1-K10),MIN(1-K10,M10+O10+Assumptions!$B$7*P10/Assumptions!$B$22)) -> 0.011873748 | T10: =J10*((1-K10)+Q10)/2 -> 8980.9555 | U10: =J10*((1-K10)-Q10)/2 -> 10417.106 | V10: =J10*((1-K10)+R10)/2 -> 9588.4755 | W10: =J10*((1-K10)-R10)/2 -> 9809.5864 | X10: =J10*((1-K10)+S10)/2 -> 9814.9832 | Y10: =J10*((1-K10)-S10)/2 -> 9583.0787 | Z10: =MAX(-(1-K10),MIN(1-K10,(M10+G10)+O10+Assumptions!$B$6*P10/Assumptions!$B$22)) -> -0.012119111 | AA10: =B10*((1-K10)+Z10)/2 -> 1201.8252 | AB10: =B10*((1-K10)-Z10)/2 -> 1231.517 | AC10: =J10-B10 -> 17080.854 | AD10: =V10-AA10 -> 8386.6503 | AE10: =W10-AB10 -> 8578.0694 | AF10: =IF(AC10>0,(AD10-AE10)/AC10,0) -> -0.011206643 | AG10: =R10-M10 -> 0.060269349 | AH10: =IF(V10>W10,"D","R") -> R
A11: BANKS | B11: 931 | C11: 4446 | D11: 7326 | E11: 607 | F11: 6651 | G11: =(Senate!G11-Senate!H11)/Senate!C11-Senate!M11 -> -0.0074657025 | H11: =Senate!M11 -> -0.76648841 | I11: -0.78163324 | J11: =Senate!J11 -> 7236.8189 | K11: =(D11-E11-F11)/D11 -> 0.0092820093 | L11: =E11/(E11+F11) -> 0.083631855 | M11: =(E11-F11)/D11 -> -0.82500683 | N11: =(I11-Assumptions!$B$10)-(M11-Assumptions!$B$9) -> -0.010055637 | O11: =Assumptions!$B$4*N11 -> -0.0050278187 | P11: =4*L11*(1-L11) -> 0.30655027 | Q11: =MAX(-(1-K11),MIN(1-K11,M11+O11+Assumptions!$B$5*P11/Assumptions!$B$22)) -> -0.83003464 | R11: =MAX(-(1-K11),MIN(1-K11,M11+O11+Assumptions!$B$6*P11/Assumptions!$B$22)) -> -0.81086415 | S11: =MAX(-(1-K11),MIN(1-K11,M11+O11+Assumptions!$B$7*P11/Assumptions!$B$22)) -> -0.80371662 | T11: =J11*((1-K11)+Q11)/2 -> 581.41814 | U11: =J11*((1-K11)-Q11)/2 -> 6588.2285 | V11: =J11*((1-K11)+R11)/2 -> 650.78485 | W11: =J11*((1-K11)-R11)/2 -> 6518.8618 | X11: =J11*((1-K11)+S11)/2 -> 676.64751 | Y11: =J11*((1-K11)-S11)/2 -> 6492.9991 | Z11: =MAX(-(1-K11),MIN(1-K11,(M11+G11)+O11+Assumptions!$B$6*P11/Assumptions!$B$22)) -> -0.81832985 | AA11: =B11*((1-K11)+Z11)/2 -> 80.24668 | AB11: =B11*((1-K11)-Z11)/2 -> 842.11177 | AC11: =J11-B11 -> 6305.8189 | AD11: =V11-AA11 -> 570.53817 | AE11: =W11-AB11 -> 5676.75 | AF11: =IF(AC11>0,(AD11-AE11)/AC11,0) -> -0.8097619 | AG11: =R11-M11 -> 0.014142678 | AH11: =IF(V11>W11,"D","R") -> R
A12: BARROW | B12: 3715 | C12: 15575 | D12: 29430 | E12: 7309 | F12: 21833 | G12: =(Senate!G12-Senate!H12)/Senate!C12-Senate!M12 -> 0.021204534 | H12: =Senate!M12 -> -0.40624466 | I12: -0.40472072 | J12: =Senate!J12 -> 33087.143 | K12: =(D12-E12-F12)/D12 -> 0.0097859327 | L12: =E12/(E12+F12) -> 0.2508064 | M12: =(E12-F12)/D12 -> -0.49351002 | N12: =(I12-Assumptions!$B$10)-(M12-Assumptions!$B$9) -> 0.035360079 | O12: =Assumptions!$B$4*N12 -> 0.01768004 | P12: =4*L12*(1-L12) -> 0.75161019 | Q12: =MAX(-(1-K12),MIN(1-K12,M12+O12+Assumptions!$B$5*P12/Assumptions!$B$22)) -> -0.47582998 | R12: =MAX(-(1-K12),MIN(1-K12,M12+O12+Assumptions!$B$6*P12/Assumptions!$B$22)) -> -0.42882712 | S12: =MAX(-(1-K12),MIN(1-K12,M12+O12+Assumptions!$B$7*P12/Assumptions!$B$22)) -> -0.41130258 | T12: =J12*((1-K12)+Q12)/2 -> 8509.7497 | U12: =J12*((1-K12)-Q12)/2 -> 24253.604 | V12: =J12*((1-K12)+R12)/2 -> 9287.345 | W12: =J12*((1-K12)-R12)/2 -> 23476.009 | X12: =J12*((1-K12)+S12)/2 -> 9577.2634 | Y12: =J12*((1-K12)-S12)/2 -> 23186.091 | Z12: =MAX(-(1-K12),MIN(1-K12,(M12+G12)+O12+Assumptions!$B$6*P12/Assumptions!$B$22)) -> -0.40762259 | AA12: =B12*((1-K12)+Z12)/2 -> 1082.1637 | AB12: =B12*((1-K12)-Z12)/2 -> 2596.4816 | AC12: =J12-B12 -> 29372.143 | AD12: =V12-AA12 -> 8205.1813 | AE12: =W12-AB12 -> 20879.527 | AF12: =IF(AC12>0,(AD12-AE12)/AC12,0) -> -0.43150908 | AG12: =R12-M12 -> 0.064682904 | AH12: =IF(V12>W12,"D","R") -> R
A13: BARTOW | B13: 3785 | C13: 20621 | D13: 39997 | E13: 8137 | F13: 31528 | G13: =(Senate!G13-Senate!H13)/Senate!C13-Senate!M13 -> 0.04181063 | H13: =Senate!M13 -> -0.50328195 | I13: -0.50965298 | J13: =Senate!J13 -> 34585.7 | K13: =(D13-E13-F13)/D13 -> 0.0083006225 | L13: =E13/(E13+F13) -> 0.20514307 | M13: =(E13-F13)/D13 -> -0.58481886 | N13: =(I13-Assumptions!$B$10)-(M13-Assumptions!$B$9) -> 0.021736655 | O13: =Assumptions!$B$4*N13 -> 0.010868327 | P13: =4*L13*(1-L13) -> 0.65223757 | Q13: =MAX(-(1-K13),MIN(1-K13,M13+O13+Assumptions!$B$5*P13/Assumptions!$B$22)) -> -0.57395053 | R13: =MAX(-(1-K13),MIN(1-K13,M13+O13+Assumptions!$B$6*P13/Assumptions!$B$22)) -> -0.53316206 | S13: =MAX(-(1-K13),MIN(1-K13,M13+O13+Assumptions!$B$7*P13/Assumptions!$B$22)) -> -0.51795449 | T13: =J13*((1-K13)+Q13)/2 -> 7224.0681 | U13: =J13*((1-K13)-Q13)/2 -> 27074.549 | V13: =J13*((1-K13)+R13)/2 -> 7929.4171 | W13: =J13*((1-K13)-R13)/2 -> 26369.2 | X13: =J13*((1-K13)+S13)/2 -> 8192.3993 | Y13: =J13*((1-K13)-S13)/2 -> 26106.218 | Z13: =MAX(-(1-K13),MIN(1-K13,(M13+G13)+O13+Assumptions!$B$6*P13/Assumptions!$B$22)) -> -0.49135143 | AA13: =B13*((1-K13)+Z13)/2 -> 946.90849 | AB13: =B13*((1-K13)-Z13)/2 -> 2806.6736 | AC13: =J13-B13 -> 30800.7 | AD13: =V13-AA13 -> 6982.5086 | AE13: =W13-AB13 -> 23562.526 | AF13: =IF(AC13>0,(AD13-AE13)/AC13,0) -> -0.53830003 | AG13: =R13-M13 -> 0.051656803 | AH13: =IF(V13>W13,"D","R") -> R
A14: BEN HILL | B14: 753 | C14: 3528 | D14: 5118 | E14: 1680 | F14: 3412 | G14: =(Senate!G14-Senate!H14)/Senate!C14-Senate!M14 -> -0.017428259 | H14: =Senate!M14 -> -0.28926108 | I14: -0.32025842 | J14: =Senate!J14 -> 5132.9107 | K14: =(D14-E14-F14)/D14 -> 0.0050801094 | L14: =E14/(E14+F14) -> 0.3299293 | M14: =(E14-F14)/D14 -> -0.33841344 | N14: =(I14-Assumptions!$B$10)-(M14-Assumptions!$B$9) -> -0.035274206 | O14: =Assumptions!$B$4*N14 -> -0.017637103 | P14: =4*L14*(1-L14) -> 0.88430383 | Q14: =MAX(-(1-K14),MIN(1-K14,M14+O14+Assumptions!$B$5*P14/Assumptions!$B$22)) -> -0.35605055 | R14: =MAX(-(1-K14),MIN(1-K14,M14+O14+Assumptions!$B$6*P14/Assumptions!$B$22)) -> -0.30074952 | S14: =MAX(-(1-K14),MIN(1-K14,M14+O14+Assumptions!$B$7*P14/Assumptions!$B$22)) -> -0.2801311 | T14: =J14*((1-K14)+Q14)/2 -> 1639.6297 | U14: =J14*((1-K14)-Q14)/2 -> 3467.2053 | V14: =J14*((1-K14)+R14)/2 -> 1781.5573 | W14: =J14*((1-K14)-R14)/2 -> 3325.2777 | X14: =J14*((1-K14)+S14)/2 -> 1834.4735 | Y14: =J14*((1-K14)-S14)/2 -> 3272.3615 | Z14: =MAX(-(1-K14),MIN(1-K14,(M14+G14)+O14+Assumptions!$B$6*P14/Assumptions!$B$22)) -> -0.31817778 | AA14: =B14*((1-K14)+Z14)/2 -> 254.7934 | AB14: =B14*((1-K14)-Z14)/2 -> 494.38127 | AC14: =J14-B14 -> 4379.9107 | AD14: =V14-AA14 -> 1526.7639 | AE14: =W14-AB14 -> 2830.8965 | AF14: =IF(AC14>0,(AD14-AE14)/AC14,0) -> -0.29775323 | AG14: =R14-M14 -> 0.037663921 | AH14: =IF(V14>W14,"D","R") -> R
A15: BERRIEN | B15: 528 | C15: 2984 | D15: 6019 | E15: 772 | F15: 5209 | G15: =(Senate!G15-Senate!H15)/Senate!C15-Senate!M15 -> -0.0060376544 | H15: =Senate!M15 -> -0.68330551 | I15: -0.69806644 | J15: =Senate!J15 -> 5022.5376 | K15: =(D15-E15-F15)/D15 -> 0.0063133411 | L15: =E15/(E15+F15) -> 0.12907541 | M15: =(E15-F15)/D15 -> -0.73716564 | N15: =(I15-Assumptions!$B$10)-(M15-Assumptions!$B$9) -> -0.01433002 | O15: =Assumptions!$B$4*N15 -> -0.0071650102 | P15: =4*L15*(1-L15) -> 0.44965978 | Q15: =MAX(-(1-K15),MIN(1-K15,M15+O15+Assumptions!$B$5*P15/Assumptions!$B$22)) -> -0.74433065 | R15: =MAX(-(1-K15),MIN(1-K15,M15+O15+Assumptions!$B$6*P15/Assumptions!$B$22)) -> -0.71621063 | S15: =MAX(-(1-K15),MIN(1-K15,M15+O15+Assumptions!$B$7*P15/Assumptions!$B$22)) -> -0.70572636 | T15: =J15*((1-K15)+Q15)/2 -> 626.19995 | U15: =J15*((1-K15)-Q15)/2 -> 4364.6286 | V15: =J15*((1-K15)+R15)/2 -> 696.8169 | W15: =J15*((1-K15)-R15)/2 -> 4294.0117 | X15: =J15*((1-K15)+S15)/2 -> 723.1457 | Y15: =J15*((1-K15)-S15)/2 -> 4267.6829 | Z15: =MAX(-(1-K15),MIN(1-K15,(M15+G15)+O15+Assumptions!$B$6*P15/Assumptions!$B$22)) -> -0.72224828 | AA15: =B15*((1-K15)+Z15)/2 -> 71.659732 | AB15: =B15*((1-K15)-Z15)/2 -> 453.00682 | AC15: =J15-B15 -> 4494.5376 | AD15: =V15-AA15 -> 625.15716 | AE15: =W15-AB15 -> 3841.0048 | AF15: =IF(AC15>0,(AD15-AE15)/AC15,0) -> -0.71550135 | AG15: =R15-M15 -> 0.020955015 | AH15: =IF(V15>W15,"D","R") -> R
A16: BIBB | B16: 6891 | C16: 26842 | D16: 54200 | E16: 31514 | F16: 22396 | G16: =(Senate!G16-Senate!H16)/Senate!C16-Senate!M16 -> 0.11376133 | H16: =Senate!M16 -> 0.23889496 | I16: 0.22425232 | J16: =Senate!J16 -> 65702.016 | K16: =(D16-E16-F16)/D16 -> 0.0053505535 | L16: =E16/(E16+F16) -> 0.58456687 | M16: =(E16-F16)/D16 -> 0.16822878 | N16: =(I16-Assumptions!$B$10)-(M16-Assumptions!$B$9) -> 0.0025943141 | O16: =Assumptions!$B$4*N16 -> 0.001297157 | P16: =4*L16*(1-L16) -> 0.97139378 | Q16: =MAX(-(1-K16),MIN(1-K16,M16+O16+Assumptions!$B$5*P16/Assumptions!$B$22)) -> 0.16952594 | R16: =MAX(-(1-K16),MIN(1-K16,M16+O16+Assumptions!$B$6*P16/Assumptions!$B$22)) -> 0.23027324 | S16: =MAX(-(1-K16),MIN(1-K16,M16+O16+Assumptions!$B$7*P16/Assumptions!$B$22)) -> 0.25292225 | T16: =J16*((1-K16)+Q16)/2 -> 38244.335 | U16: =J16*((1-K16)-Q16)/2 -> 27106.139 | V16: =J16*((1-K16)+R16)/2 -> 40239.945 | W16: =J16*((1-K16)-R16)/2 -> 25110.529 | X16: =J16*((1-K16)+S16)/2 -> 40983.988 | Y16: =J16*((1-K16)-S16)/2 -> 24366.486 | Z16: =MAX(-(1-K16),MIN(1-K16,(M16+G16)+O16+Assumptions!$B$6*P16/Assumptions!$B$22)) -> 0.34403457 | AA16: =B16*((1-K16)+Z16)/2 -> 4612.4358 | AB16: =B16*((1-K16)-Z16)/2 -> 2241.6936 | AC16: =J16-B16 -> 58811.016 | AD16: =V16-AA16 -> 35627.509 | AE16: =W16-AB16 -> 22868.835 | AF16: =IF(AC16>0,(AD16-AE16)/AC16,0) -> 0.21694361 | AG16: =R16-M16 -> 0.062044457 | AH16: =IF(V16>W16,"D","R") -> D
A17: BLECKLEY | B17: 648 | C17: 2697 | D17: 4805 | E17: 883 | F17: 3886 | G17: =(Senate!G17-Senate!H17)/Senate!C17-Senate!M17 -> -0.05528929 | H17: =Senate!M17 -> -0.55019829 | I17: -0.55360688 | J17: =Senate!J17 -> 5454.8335 | K17: =(D17-E17-F17)/D17 -> 0.0074921956 | L17: =E17/(E17+F17) -> 0.18515412 | M17: =(E17-F17)/D17 -> -0.62497399 | N17: =(I17-Assumptions!$B$10)-(M17-Assumptions!$B$9) -> 0.017937875 | O17: =Assumptions!$B$4*N17 -> 0.0089689377 | P17: =4*L17*(1-L17) -> 0.60348829 | Q17: =MAX(-(1-K17),MIN(1-K17,M17+O17+Assumptions!$B$5*P17/Assumptions!$B$22)) -> -0.61600505 | R17: =MAX(-(1-K17),MIN(1-K17,M17+O17+Assumptions!$B$6*P17/Assumptions!$B$22)) -> -0.57826517 | S17: =MAX(-(1-K17),MIN(1-K17,M17+O17+Assumptions!$B$7*P17/Assumptions!$B$22)) -> -0.56419424 | T17: =J17*((1-K17)+Q17)/2 -> 1026.8799 | U17: =J17*((1-K17)-Q17)/2 -> 4387.0849 | V17: =J17*((1-K17)+R17)/2 -> 1129.8123 | W17: =J17*((1-K17)-R17)/2 -> 4284.1525 | X17: =J17*((1-K17)+S17)/2 -> 1168.1896 | Y17: =J17*((1-K17)-S17)/2 -> 4245.7752 | Z17: =MAX(-(1-K17),MIN(1-K17,(M17+G17)+O17+Assumptions!$B$6*P17/Assumptions!$B$22)) -> -0.63355446 | AA17: =B17*((1-K17)+Z17)/2 -> 116.30088 | AB17: =B17*((1-K17)-Z17)/2 -> 526.84417 | AC17: =J17-B17 -> 4806.8335 | AD17: =V17-AA17 -> 1013.5114 | AE17: =W17-AB17 -> 3757.3083 | AF17: =IF(AC17>0,(AD17-AE17)/AC17,0) -> -0.57081172 | AG17: =R17-M17 -> 0.046708817 | AH17: =IF(V17>W17,"D","R") -> R
... A164: WORTH | B164: 673 | C164: 3177 | D164: 7395 | E164: 1716 | F164: 5649 | G164: =(Senate!G164-Senate!H164)/Senate!C164-Senate!M164 -> 0.12627121 | H164: =Senate!M164 -> -0.48572982 | I164: -0.50392094 | J164: =Senate!J164 -> 7386.1632 | K164: =(D164-E164-F164)/D164 -> 0.0040567951 | L164: =E164/(E164+F164) -> 0.23299389 | M164: =(E164-F164)/D164 -> -0.53184584 | N164: =(I164-Assumptions!$B$10)-(M164-Assumptions!$B$9) -> -0.025504322 | O164: =Assumptions!$B$4*N164 -> -0.012752161 | P164: =4*L164*(1-L164) -> 0.71483095 | Q164: =MAX(-(1-K164),MIN(1-K164,M164+O164+Assumptions!$B$5*P164/Assumptions!$B$22)) -> -0.544598 | R164: =MAX(-(1-K164),MIN(1-K164,M164+O164+Assumptions!$B$6*P164/Assumptions!$B$22)) -> -0.49989517 | S164: =MAX(-(1-K164),MIN(1-K164,M164+O164+Assumptions!$B$7*P164/Assumptions!$B$22)) -> -0.48322818 | T164: =J164*((1-K164)+Q164)/2 -> 1666.8547 | U164: =J164*((1-K164)-Q164)/2 -> 5689.3444 | V164: =J164*((1-K164)+R164)/2 -> 1831.9459 | W164: =J164*((1-K164)-R164)/2 -> 5524.2532 | X164: =J164*((1-K164)+S164)/2 -> 1893.4984 | Y164: =J164*((1-K164)-S164)/2 -> 5462.7006 | Z164: =MAX(-(1-K164),MIN(1-K164,(M164+G164)+O164+Assumptions!$B$6*P164/Assumptions!$B$22)) -> -0.37362396 | AA164: =B164*((1-K164)+Z164)/2 -> 209.41042 | AB164: =B164*((1-K164)-Z164)/2 -> 460.85935 | AC164: =J164-B164 -> 6713.1632 | AD164: =V164-AA164 -> 1622.5354 | AE164: =W164-AB164 -> 5063.3938 | AF164: =IF(AC164>0,(AD164-AE164)/AC164,0) -> -0.51255396 | AG164: =R164-M164 -> 0.031950668 | AH164: =IF(V164>W164,"D","R") -> R
A165: STATE TOTAL | B165: =SUM(B6:B164) -> 528827 | C165: =SUM(C6:C164) -> 2289951 | D165: =SUM(D6:D164) -> 3953408 | E165: =SUM(E6:E164) -> 1813673 | F165: =SUM(F6:F164) -> 2111572 | J165: =SUM(J6:J164) -> 4300000 | M165: =(E165-F165)/D165 -> -0.075352455 | Q165: =(T165-U165)/J165 -> -0.054434577 | R165: =(V165-W165)/J165 -> -0.0034453794 | S165: =(X165-Y165)/J165 -> 0.015565423 | T165: =SUM(T6:T164) -> 2017689.7 | U165: =SUM(U6:U164) -> 2251758.4 | V165: =SUM(V6:V164) -> 2127316.5 | W165: =SUM(W6:W164) -> 2142131.6 | X165: =SUM(X6:X164) -> 2168189.7 | Y165: =SUM(Y6:Y164) -> 2101258.4 | Z165: =(AA165-AB165)/B165 -> 0.05842073 | AA165: =SUM(AA6:AA164) -> 277986.76 | AB165: =SUM(AB6:AB164) -> 247092.3 | AC165: =SUM(AC6:AC164) -> 3771173 | AD165: =SUM(AD6:AD164) -> 1849329.7 | AE165: =SUM(AE6:AE164) -> 1895039.3 | AF165: =(AD165-AE165)/AC165 -> -0.012120789

Sheet Primary
A1: 2026 primary ballots accepted by county (user export, 995,408 statewide) vs. general election early ballots to date
A2: No party split by county in this file. Used as an engagement index: where general-election participation so far lags or leads the county's primary participation.
A5: County | B5: 2026 primary ballots (user file) | C5: Share of state primary | D5: General ballots to date (7:33 PM) | E5: Share of state general to date | F5: General / primary ratio | G5: Pace vs statewide (1.00 = same) | H5: 2022 final votes | I5: Primary ballots as % of 2022 final votes
A6: APPLING | B6: 1839 | C6: =B6/B$165 -> 0.0018474836 | D6: =Senate!B6 -> 766 | E6: =D6/D$165 -> 0.0014484888 | F6: =D6/B6 -> 0.41653072 | G6: =F6/F$165 -> 0.78403337 | H6: =Senate!D6 -> 6669 | I6: =B6/H6 -> 0.27575349
A7: ATKINSON | B7: 320 | C7: =B7/B$165 -> 0.00032147622 | D7: =Senate!B7 -> 143 | E7: =D7/D$165 -> 0.00027040979 | F7: =D7/B7 -> 0.446875 | G7: =F7/F$165 -> 0.84115022 | H7: =Senate!D7 -> 2238 | I7: =B7/H7 -> 0.14298481
A8: BACON | B8: 1101 | C8: =B8/B$165 -> 0.0011060791 | D8: =Senate!B8 -> 430 | E8: =D8/D$165 -> 0.00081312036 | F8: =D8/B8 -> 0.39055404 | G8: =F8/F$165 -> 0.73513761 | H8: =Senate!D8 -> 3710 | I8: =B8/H8 -> 0.2967655
A9: BAKER | B9: 272 | C9: =B9/B$165 -> 0.00027325479 | D9: =Senate!B9 -> 113 | E9: =D9/D$165 -> 0.00021368047 | F9: =D9/B9 -> 0.41544118 | G9: =F9/F$165 -> 0.78198252 | H9: =Senate!D9 -> 1249 | I9: =B9/H9 -> 0.21777422
A10: BALDWIN | B10: 3866 | C10: =B10/B$165 -> 0.0038838346 | D10: =Senate!B10 -> 2450 | E10: =D10/D$165 -> 0.0046328951 | F10: =D10/B10 -> 0.63372995 | G10: =F10/F$165 -> 1.1928662 | H10: =Senate!D10 -> 14957 | I10: =B10/H10 -> 0.25847429
A11: BANKS | B11: 1780 | C11: =B11/B$165 -> 0.0017882115 | D11: =Senate!B11 -> 931 | E11: =D11/D$165 -> 0.0017605001 | F11: =D11/B11 -> 0.52303371 | G11: =F11/F$165 -> 0.98450332 | H11: =Senate!D11 -> 7293 | I11: =B11/H11 -> 0.24406966
A12: BARROW | B12: 6093 | C12: =B12/B$165 -> 0.0061211081 | D12: =Senate!B12 -> 3715 | E12: =D12/D$165 -> 0.0070249817 | F12: =D12/B12 -> 0.60971607 | G12: =F12/F$165 -> 1.147665 | H12: =Senate!D12 -> 29273 | I12: =B12/H12 -> 0.20814402
A13: BARTOW | B13: 7552 | C13: =B13/B$165 -> 0.0075868388 | D13: =Senate!B13 -> 3785 | E13: =D13/D$165 -> 0.0071573501 | F13: =D13/B13 -> 0.50119174 | G13: =F13/F$165 -> 0.94339031 | H13: =Senate!D13 -> 39763 | I13: =B13/H13 -> 0.18992531
A14: BEN HILL | B14: 1697 | C14: =B14/B$165 -> 0.0017048286 | D14: =Senate!B14 -> 753 | E14: =D14/D$165 -> 0.0014239061 | F14: =D14/B14 -> 0.44372422 | G14: =F14/F$165 -> 0.83521953 | H14: =Senate!D14 -> 5075 | I14: =B14/H14 -> 0.33438424
A15: BERRIEN | B15: 1266 | C15: =B15/B$165 -> 0.0012718403 | D15: =Senate!B15 -> 528 | E15: =D15/D$165 -> 0.00099843616 | F15: =D15/B15 -> 0.41706161 | G15: =F15/F$165 -> 0.78503266 | H15: =Senate!D15 -> 5990 | I15: =B15/H15 -> 0.21135225
A16: BIBB | B16: 11369 | C16: =B16/B$165 -> 0.011421447 | D16: =Senate!B16 -> 6891 | E16: =D16/D$165 -> 0.013030726 | F16: =D16/B16 -> 0.60612191 | G16: =F16/F$165 -> 1.1408998 | H16: =Senate!D16 -> 54007 | I16: =B16/H16 -> 0.21050975
A17: BLECKLEY | B17: 1738 | C17: =B17/B$165 -> 0.0017460177 | D17: =Senate!B17 -> 648 | E17: =D17/D$165 -> 0.0012253535 | F17: =D17/B17 -> 0.37284235 | G17: =F17/F$165 -> 0.70179899 | H17: =Senate!D17 -> 4791 | I17: =B17/H17 -> 0.36276351
... A164: WORTH | B164: 1196 | C164: =B164/B$165 -> 0.0012015174 | D164: =Senate!B164 -> 673 | E164: =D164/D$165 -> 0.0012726279 | F164: =D164/B164 -> 0.56270903 | G164: =F164/F$165 -> 1.0591839 | H164: =Senate!D164 -> 7358 | I164: =B164/H164 -> 0.16254417
A165: STATE TOTAL | B165: =SUM(B6:B164) -> 995408 | D165: =SUM(D6:D164) -> 528827 | F165: =D165/B165 -> 0.53126658 | H165: =SUM(H6:H164) -> 3935924 | I165: =B165/H165 -> 0.25290326
